Workbook

Sheet Key actions and Milestones
A1: Multi-day Event | C1: Project Action Plan
A3: Key actions and milestones (see subsidiary sheets for detailed action plans under each heading.
A4: KEY ACTIONS AND MILESTONES | E4: 2015 | K4: 2016 | Q4: 2017 | W4: 2018
A5: Action | C5: Responsible | D5: Finish | E5: J - F | F5: M - A | G5: M - J | H5: J - A | I5: S - O | J5: N - D | K5: J - F | L5: M - A | M5: M - J | N5: J - A | O5: S - O | P5: N - D | Q5: J - F | R5: M - A | S5: M - J | T5: J - A | U5: S - O | V5: N - D | W5: J - F | X5: M - A | Y5: M - J | Z5: J - A | AA5: S - O
B6: Event Date
A7: Key milestones
B8: Host Association allocated JK | C8: ESG
B9: Partnership Agreement signed
B10: Permissions finalised & land access agreements signed
B11: JK format finalised | C11: C
B12: Risk Assessments complete
B13: Apply for IOF WRE status | C13: C, Day O, EP&PG
B14: IOF Event Advising team populated | C14: IOF
B15: Merchandising live | C15: MEM
B16: Mapping completed
A18: Event Organisation
B19: Strategic Group Meetings
B20: Organising Group Meetings
B21: Recruit Key Roles in Organising Group
B22: Controller Appointed | C22: EOG
B23: Recruit Planning Teams | C23: Day O, C
B24: Recruit Team Leaders | C24: Day O
B25: Recruit Team personel | C25: Day O
A28: Event Management
A29: Equipment | C29: Equip
A30: Travel and Transport
A31: Safety Advice Group Liaison | C31: Safety
A32: Road Signs
A33: Buses
A34: Social Programme | C34: WMJS - Tracy Craig
A35: Competiton Management
B36: Select Areas | C36: Team
B37: Formalise Access Permissions | C37: Team
A38: Course Planning
B39: Appointment of Planning teams
B40: Planning strategy
B41: Draft Courses
B42: Final Courses
A43: Computing
A44: Results | C44: Sportident
...

Sheet Admin, Finance
A1: ='Key actions and Milestones'!A1 -> Multi-day Event | B1: ='Key actions and Milestones'!C1 -> Project Action Plan
A4: ACTIONS AND MILESTONES | D4: 2016 | J4: 2017 | P4: 2018
B5: Responsible | C5: Finish | D5: J - F | E5: M - A | F5: M - J | G5: J - A | H5: S - O | I5: N - D | J5: J - F | K5: M - A | L5: M - J | M5: J - A | N5: S - O | O5: N - D | P5: J - F | Q5: M - A | R5: M - J | S5: J - A | T5: S - O
A7: Event Admin and Finance
A8: Organising Team Meetings
A9: Register event with BOF
A10: Recruit Key Roles in Central Organising Team
A11: Recruit all roles in Central Organising Team
A12: Review reports/feedback from previous JK
A13: List and communicate proposed changes
A14: Seek approval from E&CC for deviation from Rules
A15: Ensure changes immplemented
A16: Complete event Budget
A17: Pay invoices and record expenditure
A18: Monitor and record income
... A22: Chase up outstanding invoices and expenses
A23: Complete post event final accounts | B23: MEM
A24: Disbursement of profit share to association/club
A25: Info emailed or posted to overseas competitors
A26: Info emailed or posted to UK competitors (not at home in July)
A27: Main Officials debriefing
A29: Toilets
A30: Decide spec. | B30: MEM, C
A31: Obtain quotations | B31: MEM, C
A32: Place contract | B32: MEM
A33: Site visit with supplier | B33: Day O
A34: Monitor implementation | B34: MEM, C, Day O
A36: Recycling/Refuse
A37: Decide spec. - Event sites | B37: MEM, C
A38: Obtain quotations | B38: MEM, C
A39: Place contract | B39: MEM
A40: Monitor implementation | B40: MEM, C, Day O
A42: Accommodation
A43: Set up Guestlink | B43: MEM
A44: Provide info to go on website | B44: MEM, Web

Sheet Programme
A1: ='Key actions and Milestones'!A1 -> Multi-day Event | B1: ='Key actions and Milestones'!C1 -> Project Action Plan
A3: Proposed Timetable for Event Programme | B3: Responsible | C3: Finish | D3: September | H3: October | L3: November | P3: December | T3: January | X3: February | AB3: March | AF3: April
D4: 1 | E4: 2 | F4: 3 | G4: 4 | H4: 1 | I4: 2 | J4: 3 | K4: 4 | L4: 1 | M4: 2 | N4: 3 | O4: 4 | P4: 1 | Q4: 2 | R4: 3 | S4: 4 | T4: 1 | U4: 2 | V4: 3 | W4: 4 | X4: 1 | Y4: 2 | Z4: 3 | AA4: 4 | AB4: 1 | AC4: 2 | AD4: 3 | AE4: 4 | AF4: 1 | AG4: 2 | AH4: 3
A5: Draw-up List of Contributors | B5: Prog, C
A6: Agree Timetable for Preparing Copy | B6: Prog, C
A7: Inform Contributors of Process | B7: Prog, C
A8: Agree Content of Contributions | B8: Prog, C
A9: Day officials & other team leaders to agree arrangements for coordination & submission of copy | B9: Day O, Ent, C
A10: Preparation of Copy within teams | B10: Day O, Ent, C
A11: Copy to Prog | B11: Day O, Ent, C
A12: Programme Editors chase late Copy & check received Copy | B12: Prog
A13: Cut-off date for draft copy | B13: Prog
A14: Send Event Programme v1 to contributors | B14: Prog
A15: Comments back on Event Programme v1 | B15: Day O, Ent, C
A16: Event Programme v1 distributed for checking | B16: Prog
... A18: Agree & Publise Event Programme v1 | B18: Prog, Web, Pub
A19: Update & publise other versions of Event Programme | B19: Prog | C19: on going

Sheet Entries
A1: ='Key actions and Milestones'!A1 -> Multi-day Event | B1: ='Key actions and Milestones'!C1 -> Project Action Plan
A4: ACTIONS AND MILESTONES | D4: 2016 | J4: 2017 | P4: 2018
B5: Responsible | C5: Finish | D5: J - F | E5: M - A | F5: M - J | G5: J - A | H5: S - O | I5: N - D | J5: J - F | K5: M - A | L5: M - J | M5: J - A | N5: S - O | O5: N - D | P5: J - F | Q5: M - A | R5: M - J | S5: J - A | T5: S - O
A7: ENTRIES
A8: Review previous JK report
A9: Set entry system specification (+ outputs)
A10: Investigate online entry system providers
A11: Propose provider
A12: Decide provider
A13: Place contract with specifications
A14: Design paper entry system
A15: Trail run / test of entry system
A16: On-line entries live
A17: Monitor system operation
A18: Deal with any refund requests
... A43: Monitor and manage Bus bookings

Sheet Orienteering Training & String 
A1: ='Key actions and Milestones'!A1 -> Multi-day Event | B1: ='Key actions and Milestones'!C1 -> Project Action Plan
A3: ACTIONS AND MILESTONES | D3: 2016 | J3: 2017 | P3: 2018
B4: Responsible | C4: Finish | D4: J - F | E4: M - A | F4: M - J | G4: J - A | H4: S - O | I4: N - D | J4: J - F | K4: M - A | L4: M - J | M4: J - A | N4: S - O | O4: N - D | P4: J - F | Q4: M - A | R4: M - J | S4: J - A | T4: S - O
A5: Orienteering
A7: Select Areas
A8: Formalise Permissions
A9: Confirm Parking and Assembly Areas
A10: Define areas to be mapped
A11: Allocation of clubs to days
A12: Decide details of description hand out at start
A13: Appointment of Controllers | B13: EOG
A14: Appointment of Planners
A15: Prepare Area Info pack, including landowner contact details, access details, constraints and restrictions, sketch maps showing area, assembly, parking for planners, controllers and day organisers
A16: Distribute info packs to planners, controllers, day organisers & Safety Officer
A17: Appointment of Day organisers
A18: Compile and maintain contact list of Day Officials
A19: Prepare and Issue Day Organisers Manual
A20: Update Day Org Manual as necessary
A21: Monitor Day Org progress against timetable in manual
A22: Prepare and Issue Technical Manual
A23: Update Tech Manual as necessary
A24: Monitor Planning and Controlling progress against timetable in manual
A25: Confirm Elite format
... A68: Facilitate handing over of String Course equipment from each day to the next day.

Sheet Mapping
A1: ='Key actions and Milestones'!A1 -> Multi-day Event | B1: ='Key actions and Milestones'!C1 -> Project Action Plan
A4: ACTIONS AND MILESTONES | D4: 2016 | J4: 2017 | P4: 2018
B5: Responsible | C5: Finish | D5: J - F | E5: M - A | F5: M - J | G5: J - A | H5: S - O | I5: N - D | J5: J - F | K5: M - A | L5: M - J | M5: J - A | N5: S - O | O5: N - D | P5: J - F | Q5: M - A | R5: M - J | S5: J - A | T5: S - O
A7: Mapping
A8: Review previous JK mapping and map printing timetable
A9: Decide mapping and map printing timetable
A10: Communicate and agree timetable with Tech coordinator and Coordinator
A11: Define areas to be mapped
A12: Send out mapping tender documents
A13: Place mapping contracts
A14: Place map printing contract
A15: Draft map to planners and controllers
A16: Ensure survey of summer vegetation
A17: Map corrections from planners/controllers
A18: Map corrections to mappers
... A33: Maps delivered to Controller to check

Sheet Marketing and Publicity
A1: ='Key actions and Milestones'!A1 -> Multi-day Event | B1: ='Key actions and Milestones'!C1 -> Project Action Plan
A4: ACTIONS AND MILESTONES | D4: 2016 | J4: 2017 | P4: 2018
B5: Responsible | C5: Finish | D5: J - F | E5: M - A | F5: M - J | G5: J - A | H5: S - O | I5: N - D | J5: J - F | K5: M - A | L5: M - J | M5: J - A | N5: S - O | O5: N - D | P5: J - F | Q5: M - A | R5: M - J | S5: J - A | T5: S - O
A7: Marketing and Publicity
A8: Event Name
A9: Event Logo
A10: Advert in Focus
A11: Publicity at previous JK
A13: Event Programme Preparation
A14: Decide when to launch Event Programme
A15: Decide Event Programme format (folded A4 or A3)
A16: Design Event Programme
A17: Collect all input to Event Programme
A18: Identify printer for Event Programme
A19: Prepare artwork for Event Programme
... A25: Press reports
A26: Article in CompassSport | B26: Team, MEM
A27: Article in Focus (British Orienteering) | B27: Team, MEM
A28: Establish contacts with local and national media | B28: MEM
A29: Press releases to local papers | B29: MEN
A30: Press releases to National papers | B30: MEM
A31: Press releases during the event - results and stories
A32: Post event press releases | B32: MEM
A34: Merchandising
A35: See MEM programme | B35: MEM

Sheet Website
A1: ='Key actions and Milestones'!A1 -> Multi-day Event | B1: ='Key actions and Milestones'!C1 -> Project Action Plan
A4: ACTIONS AND MILESTONES | E4: 2016 | K4: 2017 | Q4: 2018
B5: Responsible | C5: Information | D5: Finish | E5: J - F | F5: M - A | G5: M - J | H5: J - A | I5: S - O | J5: N - D | K5: J - F | L5: M - A | M5: M - J | N5: J - A | O5: S - O | P5: N - D | Q5: J - F | R5: M - A | S5: M - J | T5: J - A | U5: S - O
C6: Provider
A7: WEBSITE and RESULTS
A8: Create event website
A9: Event website goes live
A10: Develop website based on previous JK website & Feedback
A11: Add information as available:
A12: Entry fees
A13: Date for entries opening
A14: Cut off dates for low entry fees - with reminders as dates approach
A15: Info on refunds and cut off dates
A16: Info on making changes to entries
A17: Info on postal entries
A18: Info on enquiries
... A34: Info on Route Gadget and links on website

Sheet Prizes
A1: ='Key actions and Milestones'!A1 -> Multi-day Event | B1: ='Key actions and Milestones'!C1 -> Project Action Plan
A4: ACTIONS AND MILESTONES | D4: 2016 | J4: 2017 | P4: 2018
B5: Responsible | C5: Finish | D5: J - F | E5: M - A | F5: M - J | G5: J - A | H5: S - O | I5: N - D | J5: J - F | K5: M - A | L5: M - J | M5: J - A | N5: S - O | O5: N - D | P5: J - F | Q5: M - A | R5: M - J | S5: J - A | T5: S - O
A7: PRIZES and PRIZEGIVING
A8: Use prize giving schedule | B8: MEM, Prize
A9: Get medal design | B9: MEM
A10: Approve medal design & numbers | B10: MEM
A11: Confirm engraving | B11: MEM
A12: Get Buff design | B12: MEM
A13: Approve Buff design & numbers | B13: MEM
A14: Order Elite vouchers | B14: MEM
A15: Decide on main officials momentos | B15: Team
A16: Plan prizegiving order | B16: Prize
A17: Organise delivery &/or getting prizes to event | B17: MEM
A18: Organise people to give prizes | B18: C
A19: Use BOF podium for prizegiving | B19: MEM | C19: at event
A20: Ensure PA system suitable for prizegiving | B20: Day O, MEM
A21: Publicise and manage spot prizes (donated by sponsors) | B21: Comm, Prize | C21: at event
A22: Prizewinners lists from computing | B22: Prize | C22: at event
A23: Run Prizegiving | B23: Prize | C23: at event

Sheet Equipment
A1: ='Key actions and Milestones'!A1 -> Multi-day Event | B1: ='Key actions and Milestones'!C1 -> Project Action Plan
A4: ACTIONS AND MILESTONES | D4: 2016 | J4: 2017 | P4: 2018
B5: Responsible | C5: Finish | D5: J - F | E5: M - A | F5: M - J | G5: J - A | H5: S - O | I5: N - D | J5: J - F | K5: M - A | L5: M - J | M5: J - A | N5: S - O | O5: N - D | P5: J - F | Q5: M - A | R5: M - J | S5: J - A | T5: S - O
A6: EQUIPMENT
A7: Decide how to organise equipment team
A8: Recruit equipment team members
A9: Info on equipment on BOF website
A10: Collect information on Day needs
A11: Order water for WRE Elite Days
A12: Arrange van/vehicle hire
A13: Check equipment stocks in Clubs/Association
A14: Order any extra equipment needed
A15: Ensure material available for stiles/bridges
A16: Erect stiles and bridges
A17: Deliver equipment to event sites
... A22: Brief team on roles/ tasks for event
A23: Collect equipment from BOF store | B23: MEM
A24: Deliver BOF equipment to each event site | B24: MEM, Equip
A25: Advise Day teams as necessary on erection of equipment
A26: Load up equipment at end of each day event to transfer to next site | B26: MEM, Equip, Day O
A27: After event, recover equipment, sort and return to store | B27: MEM
A29: Signs
A30: List of signs required in arena, from car park, to starts etc | B30: Day O, Equip
A31: Identify suppliers, design with JK logo and obtain quotes
A32: Place orders
A34: Generators
A35: Decide requirements and specs
A36: Identify suppliers and obtain quotations
A37: Place orders
A38: Deliver to event sites and oversee operation
A40: 2-way Radios
A41: Decide requirements and specs | B41: Day O, Equip
A42: Identify suppliers and obtain quotations | B42: MEM, Equip
A43: Organise delivery to event sites and manage issue, return and recharging | B43: Day O, Equip
A45: PA and Radio Controls - see Computing

Sheet Trader Contracts
A1: ='Key actions and Milestones'!A1 -> Multi-day Event | B1: ='Key actions and Milestones'!C1 -> Project Action Plan
A4: ACTIONS AND MILESTONES | D4: 2016 | J4: 2017 | P4: 2018
B5: Responsible | C5: Finish | D5: J - F | E5: M - A | F5: M - J | G5: J - A | H5: S - O | I5: N - D | J5: J - F | K5: M - A | L5: M - J | M5: J - A | N5: S - O | O5: N - D | P5: J - F | Q5: M - A | R5: M - J | S5: J - A | T5: S - O
A6: TRADERS CONTRACTS
A7: Set Traders fees | B7: MEM
A8: Amend contracts | B8: MEM
A9: Contact Traders | B9: MEM
A10: Deal with any enquiries from Traders | B10: MEM
A11: Determine LA Street Trading licence requirements | B11: MEM
A12: Notify Traders of Street Trading license | B12: MEM
A13: Issue contracts | B13: MEM
A14: Collect copies of licences, certificates, risk assements etc | B14: MEM
A15: Liaise with Day Organisers regarding positioning of traders in Arenas | B15: MEM, Day O
A16: Plan Trader space allocations in Arenas | B16: MEM, Day O
A17: Mark out Trade areas in Arenas | B17: MEM, Day O
A18: Liaise with Traders during event | B18: MEM, Day O

Sheet Sponsorship
A1: ='Key actions and Milestones'!A1 -> Multi-day Event | B1: ='Key actions and Milestones'!C1 -> Project Action Plan
A4: ACTIONS AND MILESTONES | D4: 2016 | J4: 2017 | P4: 2018
B5: Responsible | C5: Finish | D5: J - F | E5: M - A | F5: M - J | G5: J - A | H5: S - O | I5: N - D | J5: J - F | K5: M - A | L5: M - J | M5: J - A | N5: S - O | O5: N - D | P5: J - F | Q5: M - A | R5: M - J | S5: J - A | T5: S - O
A6: SPONSORSHIP
A8: Agree who will look after Public body sponsorship | B8: MEM or Day Org
A9: Contact potential commercial sponsors
A10: Organising committee to pass any potential sponsors contacts to MEM
A11: Obtain Sponsors logo
A12: Promotion of sponsors on website
A13: Collect banners etc from sponsors to use at the event
A14: Arrange with Day Organisers and Equipment team to display banners at events
A15: Promotion of sponsors at event - banners, commentary
A16: Return banners etc to sponsors after event

Sheet Computing
A1: ='Key actions and Milestones'!A1 -> Multi-day Event | B1: ='Key actions and Milestones'!C1 -> Project Action Plan
A4: ACTIONS AND MILESTONES | D4: 2016 | J4: 2017 | P4: 2018
B5: Responsible | C5: Finish | D5: J - F | E5: M - A | F5: M - J | G5: J - A | H5: S - O | I5: N - D | J5: J - F | K5: M - A | L5: M - J | M5: J - A | N5: S - O | O5: N - D | P5: J - F | Q5: M - A | R5: M - J | S5: J - A | T5: S - O
A6: COMPUTING
A7: Review previous JK reports
A9: SI Contract
A10: Review SI contract spec
A11: Discuss required contract spec with SI
A12: Obtain quotation from SI
A13: Place SI contract
A15: Entries and start time allocation | B15: see Entries spreadsheet
A16: Ensure competitor data files handed over to SI for SI event database
A17: Print start lists each for day at event
A18: Generate seeding, start times for elite
A20: Bib Printing
A21: Indentify printer | B21: MEM
A22: Obtain bib proof & identify number ranges | B22: MEM
A23: Get quote | B23: MEM
A24: Set schedule: entries closing date, start time allocation, Elite seeding, printing time & delivery | B24: MEM
A26: EOD/Registration | B26: see Entries spreadsheet
A27: Computing (continued)
A28: Orienteering
A29: Enter course/control/class data
A30: Liaise with SI staff during event
A31: Ensure provision of adequate numbers of SI units and SI cards
A32: Oversee initial programming of SI units
A33: Manage collection, reprogramming and handing on of SI units from day to day
A34: Oversee operation of download
A35: Ensure any SI or computing related problems resolved
A37: Radio controls / commentary
A38: Decide if Radio controls to be used
A39: If radio controls ensure entry system captures suitable competitor information (part of entry process)
... A49: Oversee PA operation during event

Sheet Results
A1: ='Key actions and Milestones'!A1 -> Multi-day Event | B1: ='Key actions and Milestones'!C1 -> Project Action Plan
A4: ACTIONS AND MILESTONES | D4: 2016 | J4: 2017 | P4: 2018
B5: Responsible | C5: Finish | D5: J - F | E5: M - A | F5: M - J | G5: J - A | H5: S - O | I5: N - D | J5: J - F | K5: M - A | L5: M - J | M5: J - A | N5: S - O | O5: N - D | P5: J - F | Q5: M - A | R5: M - J | S5: J - A | T5: S - O
A6: Results
A7: Consider possible results display improvements | B7: C, Day O, Equip
A8: Decide results display format for Assembly at events | B8: C, Day O, Equip, MEM
A9: Periodic results printouts at event | C9: at event
A10: Liaise with Day organsier to organise results display at each day | B10: MEM, C | C10: at event
A11: Ensure previous day results and start lists displayed each day | B11: Day O | C11: at event
A12: Produce prizewinners list | C12: at event

Sheet Information and News
A1: ='Key actions and Milestones'!A1 -> Multi-day Event | B1: ='Key actions and Milestones'!C1 -> Project Action Plan
A4: ACTIONS AND MILESTONES | D4: 2016 | J4: 2017 | P4: 2018
B5: Responsible | C5: Finish | D5: J - F | E5: M - A | F5: M - J | G5: J - A | H5: S - O | I5: N - D | J5: J - F | K5: M - A | L5: M - J | M5: J - A | N5: S - O | O5: N - D | P5: J - F | Q5: M - A | R5: M - J | S5: J - A | T5: S - O
A6: INFORMATION
A8: Review previous JK Report
A9: Respond to e-mail enquiries via web site
A10: Set up e-mail addresses for enquiries
A11: Ensure enquiries details on web site
A12: Set up postal entries address
A13: Respond to postal enquiries
A14: Prepare forms and paperwork for Entries & Enquiries
A15: Postal entries form
A16: Punching start permit cards
A17: Protest / complaint forms
A18: Recruit team for manning Enquiries at Event
... A21: Organise Enquiries for each day of Event

Sheet Safety, Travel and Transport
A1: ='Key actions and Milestones'!A1 -> Multi-day Event | B1: ='Key actions and Milestones'!C1 -> Project Action Plan
A4: ACTIONS AND MILESTONES | D4: 2016 | J4: 2017 | P4: 2018
B5: Responsible | C5: Finish | D5: J - F | E5: M - A | F5: M - J | G5: J - A | H5: S - O | I5: N - D | J5: J - F | K5: M - A | L5: M - J | M5: J - A | N5: S - O | O5: N - D | P5: J - F | Q5: M - A | R5: M - J | S5: J - A | T5: S - O
A7: Safety Advisory Group
A8: Identify point of contact with relevant SAG
A9: Regular updates on event to SAG
A10: Communicate with SAG on any issues relating to event which SAG should know about or which require assistance from them
A12: Signs
A13: Review previous JK Report
A14: Seek Local Authority/Hwys advice
A15: Prepare Schedule and travel directions
A16: Check travel directions with SAG & LA/Hwys
A17: Amend schedule after SAG & LA/Hwys input
A18: Confirm specifications for road signs
A19: Check confirmed JK Schedule
... A41: Oversee bus operation during week
